BEGIN:VCALENDAR
VERSION:2.0
PRODID:-//ASADEPE - ECPv6.2.2//NONSGML v1.0//EN
CALSCALE:GREGORIAN
METHOD:PUBLISH
X-WR-CALNAME:ASADEPE
X-ORIGINAL-URL:https://asadepe.org.ar
X-WR-CALDESC:Eventos para ASADEPE
REFRESH-INTERVAL;VALUE=DURATION:PT1H
X-Robots-Tag:noindex
X-PUBLISHED-TTL:PT1H
BEGIN:VTIMEZONE
TZID:America/Argentina/Buenos_Aires
BEGIN:STANDARD
TZOFFSETFROM:-0300
TZOFFSETTO:-0300
TZNAME:-03
DTSTART:20200101T000000
END:STANDARD
END:VTIMEZONE
BEGIN:VEVENT
DTSTART;VALUE=DATE:20201015
DTEND;VALUE=DATE:20201018
DTSTAMP:20260420T202416
CREATED:20200512T013029Z
LAST-MODIFIED:20230305T221738Z
UID:133-1602720000-1602979199@asadepe.org.ar
SUMMARY:XV CONGRESO ARGENTINO DE DERMATOLOGÍA PEDIÁTRICAVI CONGRESO INTERNACIONAL DE DERMATOLOGÍA PEDIÁTRICAIV CONGRESO VIRTUAL DE DERMATOLOGÍA PEDIÁTRICA - COVIDEP
DESCRIPTION:
URL:https://asadepe.org.ar/evento/xv-congreso-argentino-de-dermatologia-pediatrica-vi-congreso-internacional-cidep-iv-covidep/
CATEGORIES:Home,Interior
ATTACH;FMTTYPE=image/jpeg:https://asadepe.org.ar/wp-content/uploads/2020/05/invitacion-para-web-e1598636822120.jpg
END:VEVENT
END:VCALENDAR