BEGIN:VCALENDAR
VERSION:2.0
PRODID:-//ASADEPE - ECPv6.2.2//NONSGML v1.0//EN
CALSCALE:GREGORIAN
METHOD:PUBLISH
X-WR-CALNAME:ASADEPE
X-ORIGINAL-URL:https://asadepe.org.ar
X-WR-CALDESC:Eventos para ASADEPE
REFRESH-INTERVAL;VALUE=DURATION:PT1H
X-Robots-Tag:noindex
X-PUBLISHED-TTL:PT1H
BEGIN:VTIMEZONE
TZID:America/Argentina/Buenos_Aires
BEGIN:STANDARD
TZOFFSETFROM:-0300
TZOFFSETTO:-0300
TZNAME:-03
DTSTART:20200101T000000
END:STANDARD
END:VTIMEZONE
BEGIN:VEVENT
DTSTART;TZID=America/Argentina/Buenos_Aires:20200617T090000
DTEND;TZID=America/Argentina/Buenos_Aires:20200617T223000
DTSTAMP:20260421T003831
CREATED:20200608T191713Z
LAST-MODIFIED:20230305T221738Z
UID:6543-1592384400-1592433000@asadepe.org.ar
SUMMARY:Curso Anual de Dermatología Pediátrica HNRG Asadepe
DESCRIPTION:Modalidad: Semipresencial teórico-práctico con monografía y evaluación final.Contenidos teóricos (vía zoom): Miércoles 9:00 – 10:30 Horas.Fecha de teóricos: 17/06 al 03/12 del 2020.Trabajos prácticos: Todos los miércoles de Marzo\, Abril y Mayo de 2021. \n			\n				Descargar programa del curso\n			\n				Inscribite al curso
URL:https://asadepe.org.ar/evento/curso-anual-de-dermatologia-pediatrica-hnrg-asadepe/
CATEGORIES:Home,Interior
END:VEVENT
END:VCALENDAR